BEGIN:VCALENDAR
VERSION:2.0
PRODID:-//Freie Waldorfschule Karlsruhe - ECPv6.15.17//NONSGML v1.0//EN
CALSCALE:GREGORIAN
METHOD:PUBLISH
X-ORIGINAL-URL:https://waldorfschule-karlsruhe.de
X-WR-CALDESC:Veranstaltungen für Freie Waldorfschule Karlsruhe
REFRESH-INTERVAL;VALUE=DURATION:PT1H
X-Robots-Tag:noindex
X-PUBLISHED-TTL:PT1H
BEGIN:VTIMEZONE
TZID:Europe/Berlin
BEGIN:DAYLIGHT
TZOFFSETFROM:+0100
TZOFFSETTO:+0200
TZNAME:CEST
DTSTART:20250330T010000
END:DAYLIGHT
BEGIN:STANDARD
TZOFFSETFROM:+0200
TZOFFSETTO:+0100
TZNAME:CET
DTSTART:20251026T010000
END:STANDARD
BEGIN:DAYLIGHT
TZOFFSETFROM:+0100
TZOFFSETTO:+0200
TZNAME:CEST
DTSTART:20260329T010000
END:DAYLIGHT
BEGIN:STANDARD
TZOFFSETFROM:+0200
TZOFFSETTO:+0100
TZNAME:CET
DTSTART:20261025T010000
END:STANDARD
BEGIN:DAYLIGHT
TZOFFSETFROM:+0100
TZOFFSETTO:+0200
TZNAME:CEST
DTSTART:20270328T010000
END:DAYLIGHT
BEGIN:STANDARD
TZOFFSETFROM:+0200
TZOFFSETTO:+0100
TZNAME:CET
DTSTART:20271031T010000
END:STANDARD
END:VTIMEZONE
BEGIN:VEVENT
DTSTART;VALUE=DATE:20260114
DTEND;VALUE=DATE:20260115
DTSTAMP:20260421T101044
CREATED:20260105T133128Z
LAST-MODIFIED:20260105T133128Z
UID:3738-1768348800-1768435199@waldorfschule-karlsruhe.de
SUMMARY:Elternabend Klasse 3a
DESCRIPTION:
URL:https://waldorfschule-karlsruhe.de/veranstaltung/elternabend-klasse-3a/
LOCATION:Klassenraum
CATEGORIES:Elternabend
ATTACH;FMTTYPE=image/jpeg:https://waldorfschule-karlsruhe.de/wp-content/uploads/2026/01/Elternabend-scaled-e1767618907942.jpg
END:VEVENT
BEGIN:VEVENT
DTSTART;VALUE=DATE:20260114
DTEND;VALUE=DATE:20260115
DTSTAMP:20260421T101044
CREATED:20260105T133416Z
LAST-MODIFIED:20260105T133416Z
UID:3742-1768348800-1768435199@waldorfschule-karlsruhe.de
SUMMARY:Elternabend Klasse 3b
DESCRIPTION:
URL:https://waldorfschule-karlsruhe.de/veranstaltung/elternabend-klasse-3b/
LOCATION:Klassenraum
CATEGORIES:Elternabend
ATTACH;FMTTYPE=image/jpeg:https://waldorfschule-karlsruhe.de/wp-content/uploads/2026/01/Elternabend-scaled-e1767618907942.jpg
END:VEVENT
BEGIN:VEVENT
DTSTART;VALUE=DATE:20260114
DTEND;VALUE=DATE:20260115
DTSTAMP:20260421T101044
CREATED:20260105T133513Z
LAST-MODIFIED:20260105T133558Z
UID:3744-1768348800-1768435199@waldorfschule-karlsruhe.de
SUMMARY:Elternabend Klasse 6b
DESCRIPTION:
URL:https://waldorfschule-karlsruhe.de/veranstaltung/elternabend-klasse-6b/
LOCATION:Klassenraum
CATEGORIES:Elternabend
ATTACH;FMTTYPE=image/jpeg:https://waldorfschule-karlsruhe.de/wp-content/uploads/2026/01/Elternabend-scaled-e1767618907942.jpg
END:VEVENT
END:VCALENDAR