BEGIN:VCALENDAR
VERSION:2.0
PRODID:-//Freie Waldorfschule Karlsruhe - ECPv6.15.17//NONSGML v1.0//EN
CALSCALE:GREGORIAN
METHOD:PUBLISH
X-ORIGINAL-URL:https://waldorfschule-karlsruhe.de
X-WR-CALDESC:Veranstaltungen für Freie Waldorfschule Karlsruhe
REFRESH-INTERVAL;VALUE=DURATION:PT1H
X-Robots-Tag:noindex
X-PUBLISHED-TTL:PT1H
BEGIN:VTIMEZONE
TZID:Europe/Berlin
BEGIN:DAYLIGHT
TZOFFSETFROM:+0100
TZOFFSETTO:+0200
TZNAME:CEST
DTSTART:20250330T010000
END:DAYLIGHT
BEGIN:STANDARD
TZOFFSETFROM:+0200
TZOFFSETTO:+0100
TZNAME:CET
DTSTART:20251026T010000
END:STANDARD
BEGIN:DAYLIGHT
TZOFFSETFROM:+0100
TZOFFSETTO:+0200
TZNAME:CEST
DTSTART:20260329T010000
END:DAYLIGHT
BEGIN:STANDARD
TZOFFSETFROM:+0200
TZOFFSETTO:+0100
TZNAME:CET
DTSTART:20261025T010000
END:STANDARD
BEGIN:DAYLIGHT
TZOFFSETFROM:+0100
TZOFFSETTO:+0200
TZNAME:CEST
DTSTART:20270328T010000
END:DAYLIGHT
BEGIN:STANDARD
TZOFFSETFROM:+0200
TZOFFSETTO:+0100
TZNAME:CET
DTSTART:20271031T010000
END:STANDARD
END:VTIMEZONE
BEGIN:VEVENT
DTSTART;VALUE=DATE:20260126
DTEND;VALUE=DATE:20260131
DTSTAMP:20260420T173224
CREATED:20251228T121014Z
LAST-MODIFIED:20251228T121117Z
UID:3655-1769385600-1769817599@waldorfschule-karlsruhe.de
SUMMARY:Aufnahmewoche
DESCRIPTION:
URL:https://waldorfschule-karlsruhe.de/veranstaltung/aufnahmewoche/
CATEGORIES:Schulintern
ORGANIZER;CN="Sabine Bader":MAILTO:s.bader@fws-ka.de
END:VEVENT
BEGIN:VEVENT
DTSTART;TZID=Europe/Berlin:20260130T190000
DTEND;TZID=Europe/Berlin:20260130T190000
DTSTAMP:20260420T173224
CREATED:20251228T122832Z
LAST-MODIFIED:20260120T094537Z
UID:3667-1769799600-1769799600@waldorfschule-karlsruhe.de
SUMMARY:Generalversammlung der Genossenschaft
DESCRIPTION:Liebe Mitglieder\, \nzur Vorbereitung auf die Generalversammlung für das Geschäftsjahr 2024/25 am 30. Januar enthält das angehängte PDF-Dokument: \n\nden Jahresabschluss zum 31.07.2025 mit Bilanz (Anlage 1 Seite 1 und 2)\, Gewinn- und Verlustrechnung (Anlage 2) und Anhang (Anlage 3 Seiten 1 bis 10)\nden Lagebericht des Vorstands für das Geschäftsjahr 2024/25 (Anlage 4 Seite 1 bis 5)\nDarstellung der rechtlichen und wirtschaftlichen Verhältnisse (Anlage 5 Seite 1 bis 8)\ndie Planung für das Geschäftsjahr 2025/26 mit Erläuterungen\n\nIm Lagebericht berichtet der Vorstand über die wirtschaftliche Situation der Genossenschaft und gibt seine Einschätzung dazu ab.\nWie bereits in den vergangenen Jahren sollen Ihnen die nachfolgenden Erläuterungen zur Bilanz\, zur Gewinn-und Verlustrechnung und zur Haushaltsplanung einen detaillierten Einblick in unser Zahlenwerk ermöglichen.\nDer Lagebericht des Vorstands\, der Jahresabschluss zum 31.07.2025 und die Haushaltsplanung für 2025/26 wurden im Rahmen der gesetzlichen Prüfung 2025 vom Prüfungsverband Hamburg geprüft. \nWir bedanken uns herzlich für Ihr Interesse und stehen Ihnen für Ihre Rückfragen gerne auch persönlich zur Verfügung. \nDietmar Reisch\nFür die Geschäftsführung im Auftrag der Vorstands \n  \nMaterialien herunterladen \n 
URL:https://waldorfschule-karlsruhe.de/veranstaltung/generalversammlung-der-genossenschaft-2/
LOCATION:Neuer Eurythmiesaal\, Neisser Str. 2\, Karlsruhe\, 76139\, Germany
CATEGORIES:Schulintern
ATTACH;FMTTYPE=image/jpeg:https://waldorfschule-karlsruhe.de/wp-content/uploads/2025/12/Schulhof-Spielwiese.jpg
ORGANIZER;CN="Aufsichtsrat":MAILTO:aufsichtsrat@fws-ka.de
END:VEVENT
END:VCALENDAR