BEGIN:VCALENDAR
VERSION:2.0
PRODID:-//Freie Waldorfschule Karlsruhe - ECPv6.15.17//NONSGML v1.0//EN
CALSCALE:GREGORIAN
METHOD:PUBLISH
X-ORIGINAL-URL:https://waldorfschule-karlsruhe.de
X-WR-CALDESC:Veranstaltungen für Freie Waldorfschule Karlsruhe
REFRESH-INTERVAL;VALUE=DURATION:PT1H
X-Robots-Tag:noindex
X-PUBLISHED-TTL:PT1H
BEGIN:VTIMEZONE
TZID:Europe/Berlin
BEGIN:DAYLIGHT
TZOFFSETFROM:+0100
TZOFFSETTO:+0200
TZNAME:CEST
DTSTART:20250330T010000
END:DAYLIGHT
BEGIN:STANDARD
TZOFFSETFROM:+0200
TZOFFSETTO:+0100
TZNAME:CET
DTSTART:20251026T010000
END:STANDARD
BEGIN:DAYLIGHT
TZOFFSETFROM:+0100
TZOFFSETTO:+0200
TZNAME:CEST
DTSTART:20260329T010000
END:DAYLIGHT
BEGIN:STANDARD
TZOFFSETFROM:+0200
TZOFFSETTO:+0100
TZNAME:CET
DTSTART:20261025T010000
END:STANDARD
BEGIN:DAYLIGHT
TZOFFSETFROM:+0100
TZOFFSETTO:+0200
TZNAME:CEST
DTSTART:20270328T010000
END:DAYLIGHT
BEGIN:STANDARD
TZOFFSETFROM:+0200
TZOFFSETTO:+0100
TZNAME:CET
DTSTART:20271031T010000
END:STANDARD
END:VTIMEZONE
BEGIN:VEVENT
DTSTART;TZID=Europe/Berlin:20260314T200000
DTEND;TZID=Europe/Berlin:20260314T200000
DTSTAMP:20260420T161633
CREATED:20251228T155102Z
LAST-MODIFIED:20260303T122917Z
UID:3701-1773518400-1773518400@waldorfschule-karlsruhe.de
SUMMARY:Das besondere Leben der Hilletje Jans
DESCRIPTION:Holland im 18. Jahrhundert. Eine Zeit\, als Reifröcke und Perücken noch Mode waren\, Bier zum Frühstück getrunken wurde und in der die Rollen von Männern und Frauen klar verteilt waren. \nDas Waisenmädchen Hilletje Jans muss sich nach dem Tod ihrer Eltern in der Amsterdamer Hafenkneipe ihrer Tante verdingen und wird dort fälschlicherweise als Möderin beschuldigt. \nNach vielen Jahren im Spinnhaus kommt sie wieder auf freien Fuß und beschließt\, als Junge verkleidet auf einem Schiff anzuheuern. Dort wird ihr der verdiente Respekt zuteil\, sie kämpft gegen Piraten und kehrt als Held(in) nach Amsterdam zurück. Doch bleibt ihr Geheimnis dort unentdeckt? \nDie berührende Abenteuergeschichte des niederländischen Autors Ad de Bont wirft einen humorvollen Blick auf die Geschlechterrollen der damaligen\, wie der heutigen Zeit.
URL:https://waldorfschule-karlsruhe.de/veranstaltung/theaterprojekt-der-klasse-8b-zweite-auffuehrung/
LOCATION:Festsaal\, Neisser Str. 2\, Karlsruhe\, 76139\, Germany
CATEGORIES:Öffentlich
ATTACH;FMTTYPE=image/png:https://waldorfschule-karlsruhe.de/wp-content/uploads/2025/12/Bildschirmfoto-2026-03-03-um-13.27.36-scaled.png
ORGANIZER;CN="Maren Hagenbucher":MAILTO:m.hagenbucher@fws-ka.de
END:VEVENT
END:VCALENDAR