BEGIN:VCALENDAR
VERSION:2.0
PRODID:-//Freie Waldorfschule Karlsruhe - ECPv6.15.17//NONSGML v1.0//EN
CALSCALE:GREGORIAN
METHOD:PUBLISH
X-ORIGINAL-URL:https://waldorfschule-karlsruhe.de
X-WR-CALDESC:Veranstaltungen für Freie Waldorfschule Karlsruhe
REFRESH-INTERVAL;VALUE=DURATION:PT1H
X-Robots-Tag:noindex
X-PUBLISHED-TTL:PT1H
BEGIN:VTIMEZONE
TZID:Europe/Berlin
BEGIN:DAYLIGHT
TZOFFSETFROM:+0100
TZOFFSETTO:+0200
TZNAME:CEST
DTSTART:20250330T010000
END:DAYLIGHT
BEGIN:STANDARD
TZOFFSETFROM:+0200
TZOFFSETTO:+0100
TZNAME:CET
DTSTART:20251026T010000
END:STANDARD
BEGIN:DAYLIGHT
TZOFFSETFROM:+0100
TZOFFSETTO:+0200
TZNAME:CEST
DTSTART:20260329T010000
END:DAYLIGHT
BEGIN:STANDARD
TZOFFSETFROM:+0200
TZOFFSETTO:+0100
TZNAME:CET
DTSTART:20261025T010000
END:STANDARD
BEGIN:DAYLIGHT
TZOFFSETFROM:+0100
TZOFFSETTO:+0200
TZNAME:CEST
DTSTART:20270328T010000
END:DAYLIGHT
BEGIN:STANDARD
TZOFFSETFROM:+0200
TZOFFSETTO:+0100
TZNAME:CET
DTSTART:20271031T010000
END:STANDARD
END:VTIMEZONE
BEGIN:VEVENT
DTSTART;TZID=Europe/Berlin:20260322T110000
DTEND;TZID=Europe/Berlin:20260322T110000
DTSTAMP:20260422T120538
CREATED:20260224T210355Z
LAST-MODIFIED:20260228T160822Z
UID:3973-1774177200-1774177200@waldorfschule-karlsruhe.de
SUMMARY:Spring Vibes: Vom Groove zur Renaissance
DESCRIPTION:Sonne\, Blütezeit\, Blumenduft\, Vogelgesang\, erwachende Liebe… All diese Zeichen des Neubeginns machen den Frühling zu einer Jahreszeit\, die nicht nur unseren Alltag\, sondern seit Jahrhunderten auch die Kunst in all ihren Facetten inspiriert. Und wie könnte man die Rückkehr des Lebens besser feiern als – in den Worten von Hasslers Klassiker – mit “Tanzen und Springen“\, Singen und … Swingen? \nDer Kammerchor Cantus Solis und der Jazzchor Ettlingen gestalten gemeinsam ein Programm voller Leichtigkeit\, Wärme und mitreißender Energie\, in dem das Ganze mehr ist als die Summe seiner Teile: anspruchsvolle\, farbenreiche Chormusik und ein abwechslungsreiches Repertoire mit viel Swing. Eine Mischung aus Renaissance-Klängen\, modernen Chorsätzen\, jazzigen Harmonien und Groove. \nBegleitet wird das Konzert von Laute und Jazztrio\, die jedem Stil seine unverwechselbare Farbe verleihen und die Stimmung weiter beflügeln. Gemeinsam führen wir die Zuhörer und Zuhörerinnen durch eine Frühlingslandschaft aus Klassik und Jazz\, in der die Chöre und das Publikum einander spielerisch näherkommen. \nKarten zu 22/15/10 Euro.\nWeitere Informationen: cantus-solis.de
URL:https://waldorfschule-karlsruhe.de/veranstaltung/spring-vibes-vom-groove-zur-renaissance/
LOCATION:Festsaal\, Neisser Str. 2\, Karlsruhe\, 76139\, Germany
CATEGORIES:Öffentlich
ATTACH;FMTTYPE=image/jpeg:https://waldorfschule-karlsruhe.de/wp-content/uploads/2026/02/cantussolis-scaled.jpg
END:VEVENT
END:VCALENDAR