BEGIN:VCALENDAR
VERSION:2.0
PRODID:-//Freie Waldorfschule Karlsruhe - ECPv6.15.17//NONSGML v1.0//EN
CALSCALE:GREGORIAN
METHOD:PUBLISH
X-WR-CALNAME:Freie Waldorfschule Karlsruhe
X-ORIGINAL-URL:https://waldorfschule-karlsruhe.de
X-WR-CALDESC:Veranstaltungen für Freie Waldorfschule Karlsruhe
REFRESH-INTERVAL;VALUE=DURATION:PT1H
X-Robots-Tag:noindex
X-PUBLISHED-TTL:PT1H
BEGIN:VTIMEZONE
TZID:Europe/Berlin
BEGIN:DAYLIGHT
TZOFFSETFROM:+0100
TZOFFSETTO:+0200
TZNAME:CEST
DTSTART:20250330T010000
END:DAYLIGHT
BEGIN:STANDARD
TZOFFSETFROM:+0200
TZOFFSETTO:+0100
TZNAME:CET
DTSTART:20251026T010000
END:STANDARD
BEGIN:DAYLIGHT
TZOFFSETFROM:+0100
TZOFFSETTO:+0200
TZNAME:CEST
DTSTART:20260329T010000
END:DAYLIGHT
BEGIN:STANDARD
TZOFFSETFROM:+0200
TZOFFSETTO:+0100
TZNAME:CET
DTSTART:20261025T010000
END:STANDARD
BEGIN:DAYLIGHT
TZOFFSETFROM:+0100
TZOFFSETTO:+0200
TZNAME:CEST
DTSTART:20270328T010000
END:DAYLIGHT
BEGIN:STANDARD
TZOFFSETFROM:+0200
TZOFFSETTO:+0100
TZNAME:CET
DTSTART:20271031T010000
END:STANDARD
END:VTIMEZONE
BEGIN:VEVENT
DTSTART;TZID=Europe/Berlin:20260423T193000
DTEND;TZID=Europe/Berlin:20260423T193000
DTSTAMP:20260420T150521
CREATED:20251228T123209Z
LAST-MODIFIED:20260119T125022Z
UID:3673-1776972600-1776972600@waldorfschule-karlsruhe.de
SUMMARY:Schulrat
DESCRIPTION:Im Schulrat kommen Eltern\, Elternvertreter*innen aus alle Klassen\, Schulleitung\, Lehrer*innen\, Vorstand und Abgeordnete des Schülerrats zusammen. Er ist das größte Organ der Zusammenarbeit an der Schule und gestaltet die Schulzukunft maßgeblich. Im Schulrat können Alle ihre Anliegen zu Gehör bringen und Informationen zu den wichtigen Fragen der Schule geben und erhalten. Gemeinsame Beratungen und Beschlüsse fördern die Mitverantwortung und helfen\, in der Schulgemeinschaft ein Klima der Offenheit und des Vertrauens zu schaffen. \nDer Schulrat beauftragt gelegentlich gemischte Arbeitsgruppen\, die sich mit einem bestimmten Thema befassen und Entscheidungen für die Schule auf den Weg bringen.\nMehr zu diesen Arbeitsgruppen ist unter Lebendiger Schulorganismus/ Elternengagement zu erfahren. \nDer Schulrat trifft sich einmal im Monat.
URL:https://waldorfschule-karlsruhe.de/veranstaltung/schulrat-apr/
LOCATION:Neuer Eurythmiesaal\, Neisser Str. 2\, Karlsruhe\, 76139\, Germany
CATEGORIES:Schulintern
ORGANIZER;CN="Schuratsvorbereitungskreis":MAILTO:srvk@fws-ka.de
END:VEVENT
END:VCALENDAR