BEGIN:VCALENDAR
VERSION:2.0
PRODID:-//Freie Waldorfschule Karlsruhe - ECPv6.15.17//NONSGML v1.0//EN
CALSCALE:GREGORIAN
METHOD:PUBLISH
X-WR-CALNAME:Freie Waldorfschule Karlsruhe
X-ORIGINAL-URL:https://waldorfschule-karlsruhe.de
X-WR-CALDESC:Veranstaltungen für Freie Waldorfschule Karlsruhe
REFRESH-INTERVAL;VALUE=DURATION:PT1H
X-Robots-Tag:noindex
X-PUBLISHED-TTL:PT1H
BEGIN:VTIMEZONE
TZID:Europe/Berlin
BEGIN:DAYLIGHT
TZOFFSETFROM:+0100
TZOFFSETTO:+0200
TZNAME:CEST
DTSTART:20250330T010000
END:DAYLIGHT
BEGIN:STANDARD
TZOFFSETFROM:+0200
TZOFFSETTO:+0100
TZNAME:CET
DTSTART:20251026T010000
END:STANDARD
BEGIN:DAYLIGHT
TZOFFSETFROM:+0100
TZOFFSETTO:+0200
TZNAME:CEST
DTSTART:20260329T010000
END:DAYLIGHT
BEGIN:STANDARD
TZOFFSETFROM:+0200
TZOFFSETTO:+0100
TZNAME:CET
DTSTART:20261025T010000
END:STANDARD
BEGIN:DAYLIGHT
TZOFFSETFROM:+0100
TZOFFSETTO:+0200
TZNAME:CEST
DTSTART:20270328T010000
END:DAYLIGHT
BEGIN:STANDARD
TZOFFSETFROM:+0200
TZOFFSETTO:+0100
TZNAME:CET
DTSTART:20271031T010000
END:STANDARD
END:VTIMEZONE
BEGIN:VEVENT
DTSTART;TZID=Europe/Berlin:20260508T160000
DTEND;TZID=Europe/Berlin:20260508T160000
DTSTAMP:20260422T104053
CREATED:20260104T212145Z
LAST-MODIFIED:20260104T212145Z
UID:3712-1778256000-1778256000@waldorfschule-karlsruhe.de
SUMMARY:Öffentliches Infogespräch
DESCRIPTION:Unser zirka 1\,5 stündiger Informationsnachmittag richtet sich an alle Interessierten\, die sich über die Waldorfpädagogik im Allgemeinen und unsere Schule im Speziellen informieren möchten. Die Veranstaltung ist für Erwachsene konzipiert – eine Kinderbetreuung bieten wir nicht an. Wir freuen uns über pünktliches Erscheinen um 16 Uhr\, weil wir gern mit einem gemeinsamen Auftakt sowie einer Vorstellungsrunde beginnen. \nGanz besonders wendet sich unser Informationsnachmittag an Eltern\, deren Kinder eine zukünftige erste Klasse besuchen oder als Quereinsteiger*innen in eine bereits bestehende Klasse aufgenommen werden sollen. In offener Gesprächsrunde können alle Fragen zu den verschiedenen Themenbereichen geklärt werden. Darüber hinaus steht umfangreiches Informationsmaterial zum Mitnehmen zur Verfügung. Auf Wunsch erhalten Interessierte am Ende der Veranstaltung ein Aufnahmeformular für zukünftige Schulkinder. \nWeitere Termine für öffentliche Infogespräche finden Sie auf unserer Internetseite.
URL:https://waldorfschule-karlsruhe.de/veranstaltung/oeffentliches-infogespraech-4/
LOCATION:Speisesaal\, Neisser Str. 2\, Karlsruhe\, 76139
CATEGORIES:Öffentlich
ATTACH;FMTTYPE=image/jpeg:https://waldorfschule-karlsruhe.de/wp-content/uploads/2026/01/2025_SueBarth_Waldorfschule.jpg
ORGANIZER;CN="Gabriele Schick":MAILTO:g.schick@fws-ka.de
END:VEVENT
BEGIN:VEVENT
DTSTART;TZID=Europe/Berlin:20260508T200000
DTEND;TZID=Europe/Berlin:20260508T200000
DTSTAMP:20260422T104053
CREATED:20251228T155230Z
LAST-MODIFIED:20260421T102701Z
UID:3703-1778270400-1778270400@waldorfschule-karlsruhe.de
SUMMARY:Herr der Diebe
DESCRIPTION:Glauben Sie an Wunder? An Fleckchen in dieser doch so schnelllebigen Welt\, an denen immer noch ein Funke Magie glimmt? \nVenedig ist ein solcher Ort; genauso wie das Sternenversteck\, ein Raum voller Mut und Liebe. Es ist ein Platz\, wo das Unmögliche erreichbar scheint. Dort\, in einem alten\, verlassenen Kino\, ist es zu dem Zuhause einer kleinen Gruppe von Kindern geworden\, die angeführt werden von dem “Herrn der Diebe“. \nDies ist eine Geschichte\, die über die verschiedenen Blickwinkel und Wünsche der Menschen erzählt und auf eindrückliche Weise von ungleichen Chancen und Standpunkten berichtet. \nLassen Sie sich in die Gassen von Venedig entführen\, in eine Welt voller Magie und Abenteuer. \nPlakat Herr der Diebe zum Herunterladen
URL:https://waldorfschule-karlsruhe.de/veranstaltung/theaterprojekt-der-klasse-8a-erste-auffuehrung-2/
LOCATION:Festsaal\, Neisser Str. 2\, Karlsruhe\, 76139\, Germany
CATEGORIES:Öffentlich
ATTACH;FMTTYPE=image/jpeg:https://waldorfschule-karlsruhe.de/wp-content/uploads/2025/12/Herr-der-Diebe-Plakat_Ausschnitt.jpg
ORGANIZER;CN="Brigitta Flassak":MAILTO:b.flassak@fws-ka.de
END:VEVENT
END:VCALENDAR