BEGIN:VCALENDAR
VERSION:2.0
PRODID:-//Freie Waldorfschule Karlsruhe - ECPv6.15.17//NONSGML v1.0//EN
CALSCALE:GREGORIAN
METHOD:PUBLISH
X-ORIGINAL-URL:https://waldorfschule-karlsruhe.de
X-WR-CALDESC:Veranstaltungen für Freie Waldorfschule Karlsruhe
REFRESH-INTERVAL;VALUE=DURATION:PT1H
X-Robots-Tag:noindex
X-PUBLISHED-TTL:PT1H
BEGIN:VTIMEZONE
TZID:Europe/Berlin
BEGIN:DAYLIGHT
TZOFFSETFROM:+0100
TZOFFSETTO:+0200
TZNAME:CEST
DTSTART:20250330T010000
END:DAYLIGHT
BEGIN:STANDARD
TZOFFSETFROM:+0200
TZOFFSETTO:+0100
TZNAME:CET
DTSTART:20251026T010000
END:STANDARD
BEGIN:DAYLIGHT
TZOFFSETFROM:+0100
TZOFFSETTO:+0200
TZNAME:CEST
DTSTART:20260329T010000
END:DAYLIGHT
BEGIN:STANDARD
TZOFFSETFROM:+0200
TZOFFSETTO:+0100
TZNAME:CET
DTSTART:20261025T010000
END:STANDARD
BEGIN:DAYLIGHT
TZOFFSETFROM:+0100
TZOFFSETTO:+0200
TZNAME:CEST
DTSTART:20270328T010000
END:DAYLIGHT
BEGIN:STANDARD
TZOFFSETFROM:+0200
TZOFFSETTO:+0100
TZNAME:CET
DTSTART:20271031T010000
END:STANDARD
END:VTIMEZONE
BEGIN:VEVENT
DTSTART;TZID=Europe/Berlin:20260628T160000
DTEND;TZID=Europe/Berlin:20260628T173000
DTSTAMP:20260420T173246
CREATED:20251228T153046Z
LAST-MODIFIED:20260112T205822Z
UID:3690-1782662400-1782667800@waldorfschule-karlsruhe.de
SUMMARY:Mittsommerspiel
DESCRIPTION:Die Präsentation des Mittsommerspieles an der Waldorfschule ist einer der Höhepunkte im Jahresrhythmus.
URL:https://waldorfschule-karlsruhe.de/veranstaltung/mittsommerspiel/
LOCATION:Festsaal\, Neisser Str. 2\, Karlsruhe\, 76139\, Germany
CATEGORIES:Öffentlich
ATTACH;FMTTYPE=image/jpeg:https://waldorfschule-karlsruhe.de/wp-content/uploads/2025/12/DSC05511-scaled.jpg
ORGANIZER;CN="Team %C3%96ffentlichkeitsarbeit":MAILTO:oeffentlichkeit@fws-ka.de
END:VEVENT
END:VCALENDAR