BEGIN:VCALENDAR
VERSION:2.0
PRODID:-//Freie Waldorfschule Karlsruhe - ECPv6.15.17//NONSGML v1.0//EN
CALSCALE:GREGORIAN
METHOD:PUBLISH
X-WR-CALNAME:Freie Waldorfschule Karlsruhe
X-ORIGINAL-URL:https://waldorfschule-karlsruhe.de
X-WR-CALDESC:Veranstaltungen für Freie Waldorfschule Karlsruhe
REFRESH-INTERVAL;VALUE=DURATION:PT1H
X-Robots-Tag:noindex
X-PUBLISHED-TTL:PT1H
BEGIN:VTIMEZONE
TZID:Europe/Berlin
BEGIN:DAYLIGHT
TZOFFSETFROM:+0100
TZOFFSETTO:+0200
TZNAME:CEST
DTSTART:20250330T010000
END:DAYLIGHT
BEGIN:STANDARD
TZOFFSETFROM:+0200
TZOFFSETTO:+0100
TZNAME:CET
DTSTART:20251026T010000
END:STANDARD
BEGIN:DAYLIGHT
TZOFFSETFROM:+0100
TZOFFSETTO:+0200
TZNAME:CEST
DTSTART:20260329T010000
END:DAYLIGHT
BEGIN:STANDARD
TZOFFSETFROM:+0200
TZOFFSETTO:+0100
TZNAME:CET
DTSTART:20261025T010000
END:STANDARD
BEGIN:DAYLIGHT
TZOFFSETFROM:+0100
TZOFFSETTO:+0200
TZNAME:CEST
DTSTART:20270328T010000
END:DAYLIGHT
BEGIN:STANDARD
TZOFFSETFROM:+0200
TZOFFSETTO:+0100
TZNAME:CET
DTSTART:20271031T010000
END:STANDARD
END:VTIMEZONE
BEGIN:VEVENT
DTSTART;TZID=Europe/Berlin:20260727T090000
DTEND;TZID=Europe/Berlin:20260728T160000
DTSTAMP:20260421T043903
CREATED:20260419T195439Z
LAST-MODIFIED:20260419T200715Z
UID:4134-1785142800-1785254400@waldorfschule-karlsruhe.de
SUMMARY:UNESCO-Projekttage zum Thema Grenzen überwinden
DESCRIPTION:Die Projekttage aller UNESCO-Projekt-Schulen haben in 2026 ein gemeinsames Motto: Grenzen überwinden. \nEine Schüler*innen-Gruppe der Freien Waldorfschule Karlsruhe organisiert zusammen mit dem Schülerrat und den Lehrkräften Frauke Hedrich\, Sara Hamm und Andreas Schmidt diese Veranstaltung. \nHier ein erster Entwurf für den zeitlichen Ablauf beider Tage:\n9 Uhr gemeinsamer Beginn\n9.30 bis 12.15 Uhr Workshops\n12.15 bis 13 Uhr Mittagspause\n13 bis 15.45 Uhr Workshops\nEin Workshop kann in eine\, zwei oder alle vier Einheiten umfassen. \nKursleiter für die Workshops gesucht! \nAls Wunschthemen für die Workshops wurden von den Schüler*innen bisher genannt:\n·         mit Fremden reden\n·         Kontakt zu anderen Schulen herstellen\n·         Zeichensprache / Gebärdensprache\n·         andere Sprachen kennenlernen\n·         Brailleschrift\n·         Orientierung im Gelände\n·         Gendergrenzen\n·         Theater\n·         Pantomime\n·         Clowning\n·         Generationsgrenzen überwinden\, Altersheim besuchen\n·         Chat der Welten – Livechat weltweit\n·         verschiedene Sportarten (möglichst außerhalb der Turnhalle)\n·         Selbstverteidigung\n·         Spiele ohne Grenzen\, z.B. Blindenfußball\n·         Klettern in der Halle\n·         Hüpfspiele auf dem Schulhof erneuern\n·         Schach \nKursangebote\, die noch nicht auf der Liste stehen\, sind ebenfalls herzlich willkommen. Eltern und Schüler*innen können gern auch „schulfremde“ Menschen ansprechen\, die sich hier einbringen wollen. Weitere Ideen finden Interessierte auf der Taskcard\, die bei einem Treffen der UNESCO-Projekt-Schulen erarbeitet wurde: \nWer einen Workshop leiten möchte\, sendet bitte folgende Angaben an den oben genannten Ansprechpartner Andreas Schmidt:\n–          Name\, E-Mail Adresse\, möglichst auch Telefonnummer\n–          Titel des Workshops und eine kurze Inhaltsangabe\n–          Anforderungen an den Raum\, benötigtes Material\n–          mögliche Teilnehmendenzahl (min. /max.) \n–          Dauer des Workshops (1\, 2 oder 4 Einheiten) Zeiten\, die für Sie möglich sind
URL:https://waldorfschule-karlsruhe.de/veranstaltung/unesco-projekttage-zum-thema-grenzen-ueberwinden/
LOCATION:Schulgebäude und Schulaußengelände\, Neisser Str. 2\, Karlsruhe\, 76139
CATEGORIES:Schulintern
ATTACH;FMTTYPE=image/png:https://waldorfschule-karlsruhe.de/wp-content/uploads/2026/04/UNESCO.png
ORGANIZER;CN="Andreas Schmidt":MAILTO:a.schmidt@fws-ka.de
END:VEVENT
END:VCALENDAR