BEGIN:VCALENDAR
VERSION:2.0
PRODID:-//Freie Waldorfschule Karlsruhe - ECPv6.15.17//NONSGML v1.0//EN
CALSCALE:GREGORIAN
METHOD:PUBLISH
X-ORIGINAL-URL:https://waldorfschule-karlsruhe.de
X-WR-CALDESC:Veranstaltungen für Freie Waldorfschule Karlsruhe
REFRESH-INTERVAL;VALUE=DURATION:PT1H
X-Robots-Tag:noindex
X-PUBLISHED-TTL:PT1H
BEGIN:VTIMEZONE
TZID:Europe/Berlin
BEGIN:DAYLIGHT
TZOFFSETFROM:+0100
TZOFFSETTO:+0200
TZNAME:CEST
DTSTART:20250330T010000
END:DAYLIGHT
BEGIN:STANDARD
TZOFFSETFROM:+0200
TZOFFSETTO:+0100
TZNAME:CET
DTSTART:20251026T010000
END:STANDARD
BEGIN:DAYLIGHT
TZOFFSETFROM:+0100
TZOFFSETTO:+0200
TZNAME:CEST
DTSTART:20260329T010000
END:DAYLIGHT
BEGIN:STANDARD
TZOFFSETFROM:+0200
TZOFFSETTO:+0100
TZNAME:CET
DTSTART:20261025T010000
END:STANDARD
BEGIN:DAYLIGHT
TZOFFSETFROM:+0100
TZOFFSETTO:+0200
TZNAME:CEST
DTSTART:20270328T010000
END:DAYLIGHT
BEGIN:STANDARD
TZOFFSETFROM:+0200
TZOFFSETTO:+0100
TZNAME:CET
DTSTART:20271031T010000
END:STANDARD
END:VTIMEZONE
BEGIN:VEVENT
DTSTART;TZID=Europe/Berlin:20260417T200000
DTEND;TZID=Europe/Berlin:20260417T200000
DTSTAMP:20260420T150829
CREATED:20260125T173152Z
LAST-MODIFIED:20260319T163315Z
UID:3838-1776456000-1776456000@waldorfschule-karlsruhe.de
SUMMARY:Konzert des Chors Vulingoma aus Südafrika
DESCRIPTION:Feiern Sie mit uns die Schönheit der afrikanischen Kultur – das sind „Love Letters to Africa“. \nAm Anfang überschritten Geschichten und Lieder Grenzen und Kulturen\, bewahrten Geschichte und Weisheit und vermittelten gleichzeitig Werte und kulturelle Identität. Südafrika mit seiner komplexen Vergangenheit ist auch eine Quelle der Widerstandsfähigkeit. \nDie erste Hälfte der Show hebt kraftvolle Lieder wie „Senzenina“ und „Thina Sizwe“ hervor\, die in schwierigen Zeiten Hoffnung spendeten. Mit Musik und Tanz feiern wir\, wie diese Kunstform heute inmitten globaler Konflikte unseren Geist beflügelt. Die erste Hälfte betont die Rolle religiöser Musik als Quelle der Kraft für viele Gemeinschaften. \nDie zweite Hälfte umfasst die Ursprünge der Djembe-Trommel\, deren Rhythmen uns mit unseren Wurzeln verbinden. Von den alten Rhythmen Westafrikas bis zum lebhaften südafrikanischen Gumboot-Tanz – diese Show hebt den unvergänglichen Geist der afrikanischen Menschen durch unsere Lieder und Geschichten hervor. \nAlle Mitglieder der Schulgemeinschaft sowie alle Gäste von außerhalb sind herzlich eingeladen. Es wird kein Eintritt verlangt. Die Künstlerinnen und Künstler freuen sich jedoch sehr über Spenden nach Abschluss des Konzertes. \nMehr Infos zum Chor Vulingoma finden Interessierte hier. \nPoster zum Herunterladen
URL:https://waldorfschule-karlsruhe.de/veranstaltung/konzert-des-chors-vulingoma-aus-suedafrika/
LOCATION:Festsaal\, Neisser Str. 2\, Karlsruhe\, 76139\, Germany
CATEGORIES:Öffentlich
ATTACH;FMTTYPE=image/jpeg:https://waldorfschule-karlsruhe.de/wp-content/uploads/2026/01/VVVVV-e1773937969340.jpeg
ORGANIZER;CN="Florence Cartet-Zeller":MAILTO:f.cartet-zeller@fws-ka.de
END:VEVENT
BEGIN:VEVENT
DTSTART;TZID=Europe/Berlin:20260322T110000
DTEND;TZID=Europe/Berlin:20260322T110000
DTSTAMP:20260420T150830
CREATED:20260224T210355Z
LAST-MODIFIED:20260228T160822Z
UID:3973-1774177200-1774177200@waldorfschule-karlsruhe.de
SUMMARY:Spring Vibes: Vom Groove zur Renaissance
DESCRIPTION:Sonne\, Blütezeit\, Blumenduft\, Vogelgesang\, erwachende Liebe… All diese Zeichen des Neubeginns machen den Frühling zu einer Jahreszeit\, die nicht nur unseren Alltag\, sondern seit Jahrhunderten auch die Kunst in all ihren Facetten inspiriert. Und wie könnte man die Rückkehr des Lebens besser feiern als – in den Worten von Hasslers Klassiker – mit “Tanzen und Springen“\, Singen und … Swingen? \nDer Kammerchor Cantus Solis und der Jazzchor Ettlingen gestalten gemeinsam ein Programm voller Leichtigkeit\, Wärme und mitreißender Energie\, in dem das Ganze mehr ist als die Summe seiner Teile: anspruchsvolle\, farbenreiche Chormusik und ein abwechslungsreiches Repertoire mit viel Swing. Eine Mischung aus Renaissance-Klängen\, modernen Chorsätzen\, jazzigen Harmonien und Groove. \nBegleitet wird das Konzert von Laute und Jazztrio\, die jedem Stil seine unverwechselbare Farbe verleihen und die Stimmung weiter beflügeln. Gemeinsam führen wir die Zuhörer und Zuhörerinnen durch eine Frühlingslandschaft aus Klassik und Jazz\, in der die Chöre und das Publikum einander spielerisch näherkommen. \nKarten zu 22/15/10 Euro.\nWeitere Informationen: cantus-solis.de
URL:https://waldorfschule-karlsruhe.de/veranstaltung/spring-vibes-vom-groove-zur-renaissance/
LOCATION:Festsaal\, Neisser Str. 2\, Karlsruhe\, 76139\, Germany
CATEGORIES:Öffentlich
ATTACH;FMTTYPE=image/jpeg:https://waldorfschule-karlsruhe.de/wp-content/uploads/2026/02/cantussolis-scaled.jpg
END:VEVENT
BEGIN:VEVENT
DTSTART;TZID=Europe/Berlin:20260321T100000
DTEND;TZID=Europe/Berlin:20260321T140000
DTSTAMP:20260420T150830
CREATED:20251228T123835Z
LAST-MODIFIED:20260317T194156Z
UID:3679-1774087200-1774101600@waldorfschule-karlsruhe.de
SUMMARY:Tag der offenen Türen
DESCRIPTION:Am Samstag findet unser „Tag der oﬀenen Türen“ statt\, zu dem wir alle\, die sich für Waldorfpädagogik und unsere Schule interessieren\, ganz herzlich einladen. \nFührungen und Vorführungen\n10:00-12:00 Zirkus\n10:15 Monatsfeier (max 30 Minuten)\n10:45 Musik im Rondell\n11:00 Hortführung\n11:30 Monatsfeier (max 30 Minuten)\n11:30 Praktisches Malen mit Pittölkreide\n12:00 Privatmusik\n12:00-14:00 Kantele\n12:15 Monatsfeier (max 30 Minuten)\n12:30 Vortrag Schulleitung\n12:30 Eurythmie\n13:00 Hortführung\n13:30 Eurythmie \nNeben den Vorführungen und Infoführungen gibt es im ganzen Schulhaus und auf den Schulhöfen vieles zu entdecken. Wir freuen uns auf einen lebendigen sowie verbindenden Tag und auf schönes Wetter mit \n\nSinneserleben und Sprachcafés\nbewegte Bilder und Büchermarkt\nKlamotten und Kaffeeklatsch\nMalen und Mitmachen\nBildung und Burgern\n\nIhr Tag‐der‐oﬀenen‐Türen‐Team
URL:https://waldorfschule-karlsruhe.de/veranstaltung/tag-der-offenen-tueren/
LOCATION:Schulgebäude und Schulaußengelände\, Neisser Str. 2\, Karlsruhe\, 76139
CATEGORIES:Öffentlich
ATTACH;FMTTYPE=image/jpeg:https://waldorfschule-karlsruhe.de/wp-content/uploads/2025/12/2019-10-19_1058_DSC4955_final_4000px-scaled.jpg
ORGANIZER;CN="Angela Klotz":MAILTO:a.klotz@fws-ka.de
END:VEVENT
BEGIN:VEVENT
DTSTART;TZID=Europe/Berlin:20260314T200000
DTEND;TZID=Europe/Berlin:20260314T200000
DTSTAMP:20260420T150830
CREATED:20251228T155102Z
LAST-MODIFIED:20260303T122917Z
UID:3701-1773518400-1773518400@waldorfschule-karlsruhe.de
SUMMARY:Das besondere Leben der Hilletje Jans
DESCRIPTION:Holland im 18. Jahrhundert. Eine Zeit\, als Reifröcke und Perücken noch Mode waren\, Bier zum Frühstück getrunken wurde und in der die Rollen von Männern und Frauen klar verteilt waren. \nDas Waisenmädchen Hilletje Jans muss sich nach dem Tod ihrer Eltern in der Amsterdamer Hafenkneipe ihrer Tante verdingen und wird dort fälschlicherweise als Möderin beschuldigt. \nNach vielen Jahren im Spinnhaus kommt sie wieder auf freien Fuß und beschließt\, als Junge verkleidet auf einem Schiff anzuheuern. Dort wird ihr der verdiente Respekt zuteil\, sie kämpft gegen Piraten und kehrt als Held(in) nach Amsterdam zurück. Doch bleibt ihr Geheimnis dort unentdeckt? \nDie berührende Abenteuergeschichte des niederländischen Autors Ad de Bont wirft einen humorvollen Blick auf die Geschlechterrollen der damaligen\, wie der heutigen Zeit.
URL:https://waldorfschule-karlsruhe.de/veranstaltung/theaterprojekt-der-klasse-8b-zweite-auffuehrung/
LOCATION:Festsaal\, Neisser Str. 2\, Karlsruhe\, 76139\, Germany
CATEGORIES:Öffentlich
ATTACH;FMTTYPE=image/png:https://waldorfschule-karlsruhe.de/wp-content/uploads/2025/12/Bildschirmfoto-2026-03-03-um-13.27.36-scaled.png
ORGANIZER;CN="Maren Hagenbucher":MAILTO:m.hagenbucher@fws-ka.de
END:VEVENT
BEGIN:VEVENT
DTSTART;TZID=Europe/Berlin:20260313T200000
DTEND;TZID=Europe/Berlin:20260313T200000
DTSTAMP:20260420T150830
CREATED:20251228T154557Z
LAST-MODIFIED:20260303T122819Z
UID:3696-1773432000-1773432000@waldorfschule-karlsruhe.de
SUMMARY:Das besondere Leben der Hilletje Jans
DESCRIPTION:Holland im 18. Jahrhundert. Eine Zeit\, als Reifröcke und Perücken noch Mode waren\, Bier zum Frühstück getrunken wurde und in der die Rollen von Männern und Frauen klar verteilt waren. \nDas Waisenmädchen Hilletje Jans muss sich nach dem Tod ihrer Eltern in der Amsterdamer Hafenkneipe ihrer Tante verdingen und wird dort fälschlicherweise als Möderin beschuldigt. \nNach vielen Jahren im Spinnhaus kommt sie wieder auf freien Fuß und beschließt\, als Junge verkleidet auf einem Schiff anzuheuern. Dort wird ihr der verdiente Respekt zuteil\, sie kämpft gegen Piraten und kehrt als Held(in) nach Amsterdam zurück. Doch bleibt ihr Geheimnis dort unentdeckt? \nDie berührende Abenteuergeschichte des niederländischen Autors Ad de Bont wirft einen humorvollen Blick auf die Geschlechterrollen der damaligen\, wie der heutigen Zeit.
URL:https://waldorfschule-karlsruhe.de/veranstaltung/theaterprojekt-der-klasse-8a-erste-auffuehrung/
LOCATION:Festsaal\, Neisser Str. 2\, Karlsruhe\, 76139\, Germany
CATEGORIES:Öffentlich
ATTACH;FMTTYPE=image/png:https://waldorfschule-karlsruhe.de/wp-content/uploads/2025/12/Bildschirmfoto-2026-03-03-um-13.27.36-scaled.png
ORGANIZER;CN="Maren Hagenbucher":MAILTO:m.hagenbucher@fws-ka.de
END:VEVENT
BEGIN:VEVENT
DTSTART;TZID=Europe/Berlin:20260305T193000
DTEND;TZID=Europe/Berlin:20260305T193000
DTSTAMP:20260420T150830
CREATED:20251228T123115Z
LAST-MODIFIED:20260119T124933Z
UID:3671-1772739000-1772739000@waldorfschule-karlsruhe.de
SUMMARY:Schulrat
DESCRIPTION:Im Schulrat kommen Eltern\, Elternvertreter*innen aus alle Klassen\, Schulleitung\, Lehrer*innen\, Vorstand und Abgeordnete des Schülerrats zusammen. Er ist das größte Organ der Zusammenarbeit an der Schule und gestaltet die Schulzukunft maßgeblich. Im Schulrat können Alle ihre Anliegen zu Gehör bringen und Informationen zu den wichtigen Fragen der Schule geben und erhalten. Gemeinsame Beratungen und Beschlüsse fördern die Mitverantwortung und helfen\, in der Schulgemeinschaft ein Klima der Offenheit und des Vertrauens zu schaffen. \nDer Schulrat beauftragt gelegentlich gemischte Arbeitsgruppen\, die sich mit einem bestimmten Thema befassen und Entscheidungen für die Schule auf den Weg bringen.\nMehr zu diesen Arbeitsgruppen ist unter Lebendiger Schulorganismus/ Elternengagement zu erfahren. \nDer Schulrat trifft sich einmal im Monat.
URL:https://waldorfschule-karlsruhe.de/veranstaltung/schulrat-mrz/
LOCATION:Neuer Eurythmiesaal\, Neisser Str. 2\, Karlsruhe\, 76139\, Germany
CATEGORIES:Schulintern
ORGANIZER;CN="Schuratsvorbereitungskreis":MAILTO:srvk@fws-ka.de
END:VEVENT
BEGIN:VEVENT
DTSTART;TZID=Europe/Berlin:20260227T160000
DTEND;TZID=Europe/Berlin:20260227T160000
DTSTAMP:20260420T150830
CREATED:20251228T123007Z
LAST-MODIFIED:20251228T123007Z
UID:3669-1772208000-1772208000@waldorfschule-karlsruhe.de
SUMMARY:Öffentliches Infogespräch
DESCRIPTION:Unser zirka 1\,5 stündiger Informationsnachmittag richtet sich an alle Interessierten\, die sich über die Waldorfpädagogik im Allgemeinen und unsere Schule im Speziellen informieren möchten. Die Veranstaltung ist für Erwachsene konzipiert – eine Kinderbetreuung bieten wir nicht an. Wir freuen uns über pünktliches Erscheinen um 16 Uhr\, weil wir gern mit einem gemeinsamen Auftakt sowie einer Vorstellungsrunde beginnen. \nGanz besonders wendet sich unser Informationsnachmittag an Eltern\, deren Kinder eine zukünftige erste Klasse besuchen oder als Quereinsteiger*innen in eine bereits bestehende Klasse aufgenommen werden sollen. In offener Gesprächsrunde können alle Fragen zu den verschiedenen Themenbereichen geklärt werden. Darüber hinaus steht umfangreiches Informationsmaterial zum Mitnehmen zur Verfügung. Auf Wunsch erhalten Interessierte am Ende der Veranstaltung ein Aufnahmeformular für zukünftige Schulkinder. \nWeitere Termine für öffentliche Infogespräche finden Sie auf unserer Internetseite.
URL:https://waldorfschule-karlsruhe.de/veranstaltung/oeffentliches-infogespraech-2/
LOCATION:Speisesaal\, Neisser Str. 2\, Karlsruhe\, 76139
CATEGORIES:Öffentlich
ATTACH;FMTTYPE=image/jpeg:https://waldorfschule-karlsruhe.de/wp-content/uploads/2026/01/2025_SueBarth_Waldorfschule.jpg
ORGANIZER;CN="Gabriele Schick":MAILTO:g.schick@fws-ka.de
END:VEVENT
BEGIN:VEVENT
DTSTART;TZID=Europe/Berlin:20260213T180000
DTEND;TZID=Europe/Berlin:20260213T180000
DTSTAMP:20260420T150830
CREATED:20260204T105510Z
LAST-MODIFIED:20260204T113516Z
UID:3887-1771005600-1771005600@waldorfschule-karlsruhe.de
SUMMARY:Faschingsball
DESCRIPTION:
URL:https://waldorfschule-karlsruhe.de/veranstaltung/faschingsball/
LOCATION:Festsaal\, Neisser Str. 2\, Karlsruhe\, 76139\, Germany
CATEGORIES:Schulintern
ATTACH;FMTTYPE=image/png:https://waldorfschule-karlsruhe.de/wp-content/uploads/2026/02/340FB02C-8583-44CA-A2BF-129BF27C5734.png
END:VEVENT
BEGIN:VEVENT
DTSTART;TZID=Europe/Berlin:20260207T200000
DTEND;TZID=Europe/Berlin:20260207T200000
DTSTAMP:20260420T150830
CREATED:20251228T122100Z
LAST-MODIFIED:20260127T072120Z
UID:3664-1770494400-1770494400@waldorfschule-karlsruhe.de
SUMMARY:Verbrennungen
DESCRIPTION:In seinem Theaterstück konfrontiert uns Wajdi Mouawad mit den zerstörerischen und sehr aktuellen Mechanismen von Gewalt und reflexhafter Gegengewalt\, Unterdrückung menschlicher Individualität\, Sinnverlust\, hasserfüllter Rache und Krieg. Aber auch von den Gegenbildern wird erzählt: von bedingungsloser Liebe\, Mut\, Emanzipation und Versöhnung. Das Stück verschränkt den Lebensalltag der kanadischen Protagonisten mit dem traumatischen Geschehen des libanesischen Bürgerkriegs. Schnell wird aber deutlich: Es geht eigentlich um den Menschen überhaupt\, um unsere gegenwärtigen Konflikte und letztlich um Fragen nach biographischer Entwicklung\, die Möglichkeit der Freiheit\, um Frieden und ein soziales Miteinander.\nAltersbeschränkung: 14 Jahre. \nBitte beachten Sie\, dass das Stück Themen wie (sexuelle) Gewalt\, Mord\, Waffen und Folter enthält.
URL:https://waldorfschule-karlsruhe.de/veranstaltung/verbrennungen/
LOCATION:Festsaal\, Neisser Str. 2\, Karlsruhe\, 76139\, Germany
CATEGORIES:Öffentlich
ATTACH;FMTTYPE=image/jpeg:https://waldorfschule-karlsruhe.de/wp-content/uploads/2025/12/entwurf2_mann-scaled.jpg
ORGANIZER;CN="Maren Hagenbucher":MAILTO:m.hagenbucher@fws-ka.de
END:VEVENT
BEGIN:VEVENT
DTSTART;TZID=Europe/Berlin:20260206T200000
DTEND;TZID=Europe/Berlin:20260206T200000
DTSTAMP:20260420T150830
CREATED:20251228T121529Z
LAST-MODIFIED:20260127T072303Z
UID:3658-1770408000-1770408000@waldorfschule-karlsruhe.de
SUMMARY:Verbrennungen
DESCRIPTION:In seinem Theaterstück konfrontiert uns Wajdi Mouawad mit den zerstörerischen und sehr aktuellen Mechanismen von Gewalt und reflexhafter Gegengewalt\, Unterdrückung menschlicher Individualität\, Sinnverlust\, hasserfüllter Rache und Krieg. Aber auch von den Gegenbildern wird erzählt: von bedingungsloser Liebe\, Mut\, Emanzipation und Versöhnung. Das Stück verschränkt den Lebensalltag der kanadischen Protagonisten mit dem traumatischen Geschehen des libanesischen Bürgerkriegs. Schnell wird aber deutlich: Es geht eigentlich um den Menschen überhaupt\, um unsere gegenwärtigen Konflikte und letztlich um Fragen nach biographischer Entwicklung\, die Möglichkeit der Freiheit\, um Frieden und ein soziales Miteinander.\nAltersbeschränkung: 14 Jahre. \nBitte beachten Sie\, dass das Stück Themen wie (sexuelle) Gewalt\, Mord\, Waffen und Folter enthält.
URL:https://waldorfschule-karlsruhe.de/veranstaltung/verbrennungen-2/
LOCATION:Festsaal\, Neisser Str. 2\, Karlsruhe\, 76139\, Germany
CATEGORIES:Öffentlich
ATTACH;FMTTYPE=image/jpeg:https://waldorfschule-karlsruhe.de/wp-content/uploads/2025/12/entwurf2_mann-scaled.jpg
ORGANIZER;CN="Maren Hagenbucher":MAILTO:m.hagenbucher@fws-ka.de
END:VEVENT
BEGIN:VEVENT
DTSTART;VALUE=DATE:20260202
DTEND;VALUE=DATE:20260203
DTSTAMP:20260420T150830
CREATED:20260107T104849Z
LAST-MODIFIED:20260107T104849Z
UID:3758-1769990400-1770076799@waldorfschule-karlsruhe.de
SUMMARY:Elternabend Klasse 9a
DESCRIPTION:
URL:https://waldorfschule-karlsruhe.de/veranstaltung/elternabend-klasse-9a/
LOCATION:Klassenraum
CATEGORIES:Elternabend
ATTACH;FMTTYPE=image/jpeg:https://waldorfschule-karlsruhe.de/wp-content/uploads/2026/01/Elternabend-scaled-e1767618907942.jpg
END:VEVENT
BEGIN:VEVENT
DTSTART;TZID=Europe/Berlin:20260130T190000
DTEND;TZID=Europe/Berlin:20260130T190000
DTSTAMP:20260420T150830
CREATED:20251228T122832Z
LAST-MODIFIED:20260120T094537Z
UID:3667-1769799600-1769799600@waldorfschule-karlsruhe.de
SUMMARY:Generalversammlung der Genossenschaft
DESCRIPTION:Liebe Mitglieder\, \nzur Vorbereitung auf die Generalversammlung für das Geschäftsjahr 2024/25 am 30. Januar enthält das angehängte PDF-Dokument: \n\nden Jahresabschluss zum 31.07.2025 mit Bilanz (Anlage 1 Seite 1 und 2)\, Gewinn- und Verlustrechnung (Anlage 2) und Anhang (Anlage 3 Seiten 1 bis 10)\nden Lagebericht des Vorstands für das Geschäftsjahr 2024/25 (Anlage 4 Seite 1 bis 5)\nDarstellung der rechtlichen und wirtschaftlichen Verhältnisse (Anlage 5 Seite 1 bis 8)\ndie Planung für das Geschäftsjahr 2025/26 mit Erläuterungen\n\nIm Lagebericht berichtet der Vorstand über die wirtschaftliche Situation der Genossenschaft und gibt seine Einschätzung dazu ab.\nWie bereits in den vergangenen Jahren sollen Ihnen die nachfolgenden Erläuterungen zur Bilanz\, zur Gewinn-und Verlustrechnung und zur Haushaltsplanung einen detaillierten Einblick in unser Zahlenwerk ermöglichen.\nDer Lagebericht des Vorstands\, der Jahresabschluss zum 31.07.2025 und die Haushaltsplanung für 2025/26 wurden im Rahmen der gesetzlichen Prüfung 2025 vom Prüfungsverband Hamburg geprüft. \nWir bedanken uns herzlich für Ihr Interesse und stehen Ihnen für Ihre Rückfragen gerne auch persönlich zur Verfügung. \nDietmar Reisch\nFür die Geschäftsführung im Auftrag der Vorstands \n  \nMaterialien herunterladen \n 
URL:https://waldorfschule-karlsruhe.de/veranstaltung/generalversammlung-der-genossenschaft-2/
LOCATION:Neuer Eurythmiesaal\, Neisser Str. 2\, Karlsruhe\, 76139\, Germany
CATEGORIES:Schulintern
ATTACH;FMTTYPE=image/jpeg:https://waldorfschule-karlsruhe.de/wp-content/uploads/2025/12/Schulhof-Spielwiese.jpg
ORGANIZER;CN="Aufsichtsrat":MAILTO:aufsichtsrat@fws-ka.de
END:VEVENT
BEGIN:VEVENT
DTSTART;VALUE=DATE:20260128
DTEND;VALUE=DATE:20260129
DTSTAMP:20260420T150830
CREATED:20260107T104722Z
LAST-MODIFIED:20260107T104722Z
UID:3757-1769558400-1769644799@waldorfschule-karlsruhe.de
SUMMARY:Elternabend Klasse 10a
DESCRIPTION:
URL:https://waldorfschule-karlsruhe.de/veranstaltung/elternabend-klasse-10a/
LOCATION:Klassenraum
CATEGORIES:Elternabend
ATTACH;FMTTYPE=image/jpeg:https://waldorfschule-karlsruhe.de/wp-content/uploads/2026/01/Elternabend-scaled-e1767618907942.jpg
END:VEVENT
BEGIN:VEVENT
DTSTART;VALUE=DATE:20260127
DTEND;VALUE=DATE:20260128
DTSTAMP:20260420T150830
CREATED:20260107T104549Z
LAST-MODIFIED:20260107T104549Z
UID:3755-1769472000-1769558399@waldorfschule-karlsruhe.de
SUMMARY:Medien-Elternabend Klassen 6a und 6b
DESCRIPTION:
URL:https://waldorfschule-karlsruhe.de/veranstaltung/medien-elternabend-klassen-6a-und-6b/
LOCATION:Klassenraum
CATEGORIES:Elternabend
ATTACH;FMTTYPE=image/jpeg:https://waldorfschule-karlsruhe.de/wp-content/uploads/2026/01/Elternabend-scaled-e1767618907942.jpg
END:VEVENT
BEGIN:VEVENT
DTSTART;VALUE=DATE:20260127
DTEND;VALUE=DATE:20260128
DTSTAMP:20260420T150830
CREATED:20260107T104239Z
LAST-MODIFIED:20260107T104239Z
UID:3751-1769472000-1769558399@waldorfschule-karlsruhe.de
SUMMARY:Elternabend Klasse 5b
DESCRIPTION:
URL:https://waldorfschule-karlsruhe.de/veranstaltung/elternabend-klasse-5b/
LOCATION:Klassenraum
CATEGORIES:Elternabend
ATTACH;FMTTYPE=image/jpeg:https://waldorfschule-karlsruhe.de/wp-content/uploads/2026/01/Elternabend-scaled-e1767618907942.jpg
END:VEVENT
BEGIN:VEVENT
DTSTART;VALUE=DATE:20260126
DTEND;VALUE=DATE:20260131
DTSTAMP:20260420T150830
CREATED:20251228T121014Z
LAST-MODIFIED:20251228T121117Z
UID:3655-1769385600-1769817599@waldorfschule-karlsruhe.de
SUMMARY:Aufnahmewoche
DESCRIPTION:
URL:https://waldorfschule-karlsruhe.de/veranstaltung/aufnahmewoche/
CATEGORIES:Schulintern
ORGANIZER;CN="Sabine Bader":MAILTO:s.bader@fws-ka.de
END:VEVENT
BEGIN:VEVENT
DTSTART;VALUE=DATE:20260126
DTEND;VALUE=DATE:20260127
DTSTAMP:20260420T150830
CREATED:20260107T104340Z
LAST-MODIFIED:20260107T104446Z
UID:3753-1769385600-1769471999@waldorfschule-karlsruhe.de
SUMMARY:Elternabend Klasse 1a
DESCRIPTION:
URL:https://waldorfschule-karlsruhe.de/veranstaltung/elternabend-klasse-1a/
LOCATION:Klassenraum
CATEGORIES:Elternabend
ATTACH;FMTTYPE=image/jpeg:https://waldorfschule-karlsruhe.de/wp-content/uploads/2026/01/Elternabend-scaled-e1767618907942.jpg
END:VEVENT
BEGIN:VEVENT
DTSTART;TZID=Europe/Berlin:20260122T193000
DTEND;TZID=Europe/Berlin:20260122T193000
DTSTAMP:20260420T150830
CREATED:20251228T120553Z
LAST-MODIFIED:20251228T131138Z
UID:3651-1769110200-1769110200@waldorfschule-karlsruhe.de
SUMMARY:Schulrat
DESCRIPTION:Im Schulrat kommen Eltern\, Elternvertreter*innen aus alle Klassen\, Schulleitung\, Lehrer*innen\, Vorstand und Abgeordnete des Schülerrats zusammen. Er ist das größte Organ der Zusammenarbeit an der Schule und gestaltet die Schulzukunft maßgeblich. Im Schulrat können Alle ihre Anliegen zu Gehör bringen und Informationen zu den wichtigen Fragen der Schule geben und erhalten. Gemeinsame Beratungen und Beschlüsse fördern die Mitverantwortung und helfen\, in der Schulgemeinschaft ein Klima der Offenheit und des Vertrauens zu schaffen. \nDer Schulrat beauftragt gelegentlich gemischte Arbeitsgruppen\, die sich mit einem bestimmten Thema befassen und Entscheidungen für die Schule auf den Weg bringen.\nMehr zu diesen Arbeitsgruppen ist unter Lebendiger Schulorganismus/ Elternengagement zu erfahren. \nDer Schulrat trifft sich einmal im Monat.
URL:https://waldorfschule-karlsruhe.de/veranstaltung/schulrat-1/
LOCATION:Neuer Eurythmiesaal\, Neisser Str. 2\, Karlsruhe\, 76139\, Germany
CATEGORIES:Schulintern
ORGANIZER;CN="Schuratsvorbereitungskreis":MAILTO:srvk@fws-ka.de
END:VEVENT
BEGIN:VEVENT
DTSTART;VALUE=DATE:20260120
DTEND;VALUE=DATE:20260121
DTSTAMP:20260420T150830
CREATED:20260107T104107Z
LAST-MODIFIED:20260107T104107Z
UID:3749-1768867200-1768953599@waldorfschule-karlsruhe.de
SUMMARY:Elternabend Klasse 2a
DESCRIPTION:
URL:https://waldorfschule-karlsruhe.de/veranstaltung/elternabend-klasse-2a/
LOCATION:Klassenraum
CATEGORIES:Elternabend
ATTACH;FMTTYPE=image/jpeg:https://waldorfschule-karlsruhe.de/wp-content/uploads/2026/01/Elternabend-scaled-e1767618907942.jpg
END:VEVENT
BEGIN:VEVENT
DTSTART;TZID=Europe/Berlin:20260116T160000
DTEND;TZID=Europe/Berlin:20260116T160000
DTSTAMP:20260420T150830
CREATED:20251228T114949Z
LAST-MODIFIED:20251228T115503Z
UID:3647-1768579200-1768579200@waldorfschule-karlsruhe.de
SUMMARY:Öffentliches Infogespräch
DESCRIPTION:Unser zirka 1\,5 stündiger Informationsnachmittag richtet sich an alle Interessierten\, die sich über die Waldorfpädagogik im Allgemeinen und unsere Schule im Speziellen informieren möchten. Die Veranstaltung ist für Erwachsene konzipiert – eine Kinderbetreuung bieten wir nicht an. Wir freuen uns über pünktliches Erscheinen um 16 Uhr\, weil wir gern mit einem gemeinsamen Auftakt sowie einer Vorstellungsrunde beginnen. \nGanz besonders wendet sich unser Informationsnachmittag an Eltern\, deren Kinder eine zukünftige erste Klasse besuchen oder als Quereinsteiger*innen in eine bereits bestehende Klasse aufgenommen werden sollen. In offener Gesprächsrunde können alle Fragen zu den verschiedenen Themenbereichen geklärt werden. Darüber hinaus steht umfangreiches Informationsmaterial zum Mitnehmen zur Verfügung. Auf Wunsch erhalten Interessierte am Ende der Veranstaltung ein Aufnahmeformular für zukünftige Schulkinder. \nWeitere Termine für öffentliche Infogespräche finden Sie auf unserer Internetseite.
URL:https://waldorfschule-karlsruhe.de/veranstaltung/oeffentliches-infogespraech/
LOCATION:Speisesaal\, Neisser Str. 2\, Karlsruhe\, 76139
CATEGORIES:Öffentlich
ATTACH;FMTTYPE=image/jpeg:https://waldorfschule-karlsruhe.de/wp-content/uploads/2026/01/2025_SueBarth_Waldorfschule.jpg
ORGANIZER;CN="Gabriele Schick":MAILTO:g.schick@fws-ka.de
END:VEVENT
BEGIN:VEVENT
DTSTART;VALUE=DATE:20260114
DTEND;VALUE=DATE:20260115
DTSTAMP:20260420T150830
CREATED:20260105T133513Z
LAST-MODIFIED:20260105T133558Z
UID:3744-1768348800-1768435199@waldorfschule-karlsruhe.de
SUMMARY:Elternabend Klasse 6b
DESCRIPTION:
URL:https://waldorfschule-karlsruhe.de/veranstaltung/elternabend-klasse-6b/
LOCATION:Klassenraum
CATEGORIES:Elternabend
ATTACH;FMTTYPE=image/jpeg:https://waldorfschule-karlsruhe.de/wp-content/uploads/2026/01/Elternabend-scaled-e1767618907942.jpg
END:VEVENT
BEGIN:VEVENT
DTSTART;VALUE=DATE:20260114
DTEND;VALUE=DATE:20260115
DTSTAMP:20260420T150830
CREATED:20260105T133416Z
LAST-MODIFIED:20260105T133416Z
UID:3742-1768348800-1768435199@waldorfschule-karlsruhe.de
SUMMARY:Elternabend Klasse 3b
DESCRIPTION:
URL:https://waldorfschule-karlsruhe.de/veranstaltung/elternabend-klasse-3b/
LOCATION:Klassenraum
CATEGORIES:Elternabend
ATTACH;FMTTYPE=image/jpeg:https://waldorfschule-karlsruhe.de/wp-content/uploads/2026/01/Elternabend-scaled-e1767618907942.jpg
END:VEVENT
BEGIN:VEVENT
DTSTART;VALUE=DATE:20260114
DTEND;VALUE=DATE:20260115
DTSTAMP:20260420T150830
CREATED:20260105T133128Z
LAST-MODIFIED:20260105T133128Z
UID:3738-1768348800-1768435199@waldorfschule-karlsruhe.de
SUMMARY:Elternabend Klasse 3a
DESCRIPTION:
URL:https://waldorfschule-karlsruhe.de/veranstaltung/elternabend-klasse-3a/
LOCATION:Klassenraum
CATEGORIES:Elternabend
ATTACH;FMTTYPE=image/jpeg:https://waldorfschule-karlsruhe.de/wp-content/uploads/2026/01/Elternabend-scaled-e1767618907942.jpg
END:VEVENT
BEGIN:VEVENT
DTSTART;VALUE=DATE:20260113
DTEND;VALUE=DATE:20260114
DTSTAMP:20260420T150830
CREATED:20260105T131851Z
LAST-MODIFIED:20260105T131851Z
UID:3736-1768262400-1768348799@waldorfschule-karlsruhe.de
SUMMARY:Elternabend Klasse 4b
DESCRIPTION:
URL:https://waldorfschule-karlsruhe.de/veranstaltung/elternabend-klasse-4b/
LOCATION:Klassenraum
CATEGORIES:Elternabend
ATTACH;FMTTYPE=image/jpeg:https://waldorfschule-karlsruhe.de/wp-content/uploads/2026/01/Elternabend-scaled-e1767618907942.jpg
END:VEVENT
BEGIN:VEVENT
DTSTART;VALUE=DATE:20260112
DTEND;VALUE=DATE:20260113
DTSTAMP:20260420T150830
CREATED:20260105T130252Z
LAST-MODIFIED:20260105T131517Z
UID:3729-1768176000-1768262399@waldorfschule-karlsruhe.de
SUMMARY:Elternabend Klasse 11b
DESCRIPTION:
URL:https://waldorfschule-karlsruhe.de/veranstaltung/elternabend-klasse-11b/
LOCATION:Klassenraum
CATEGORIES:Elternabend
ATTACH;FMTTYPE=image/jpeg:https://waldorfschule-karlsruhe.de/wp-content/uploads/2026/01/Elternabend-scaled-e1767618907942.jpg
END:VEVENT
END:VCALENDAR