BEGIN:VCALENDAR
VERSION:2.0
PRODID:-//Freie Waldorfschule Karlsruhe - ECPv6.15.17//NONSGML v1.0//EN
CALSCALE:GREGORIAN
METHOD:PUBLISH
X-ORIGINAL-URL:https://waldorfschule-karlsruhe.de
X-WR-CALDESC:Veranstaltungen für Freie Waldorfschule Karlsruhe
REFRESH-INTERVAL;VALUE=DURATION:PT1H
X-Robots-Tag:noindex
X-PUBLISHED-TTL:PT1H
BEGIN:VTIMEZONE
TZID:Europe/Berlin
BEGIN:DAYLIGHT
TZOFFSETFROM:+0100
TZOFFSETTO:+0200
TZNAME:CEST
DTSTART:20250330T010000
END:DAYLIGHT
BEGIN:STANDARD
TZOFFSETFROM:+0200
TZOFFSETTO:+0100
TZNAME:CET
DTSTART:20251026T010000
END:STANDARD
BEGIN:DAYLIGHT
TZOFFSETFROM:+0100
TZOFFSETTO:+0200
TZNAME:CEST
DTSTART:20260329T010000
END:DAYLIGHT
BEGIN:STANDARD
TZOFFSETFROM:+0200
TZOFFSETTO:+0100
TZNAME:CET
DTSTART:20261025T010000
END:STANDARD
BEGIN:DAYLIGHT
TZOFFSETFROM:+0100
TZOFFSETTO:+0200
TZNAME:CEST
DTSTART:20270328T010000
END:DAYLIGHT
BEGIN:STANDARD
TZOFFSETFROM:+0200
TZOFFSETTO:+0100
TZNAME:CET
DTSTART:20271031T010000
END:STANDARD
END:VTIMEZONE
BEGIN:VEVENT
DTSTART;VALUE=DATE:20260202
DTEND;VALUE=DATE:20260203
DTSTAMP:20260420T161703
CREATED:20260107T104849Z
LAST-MODIFIED:20260107T104849Z
UID:3758-1769990400-1770076799@waldorfschule-karlsruhe.de
SUMMARY:Elternabend Klasse 9a
DESCRIPTION:
URL:https://waldorfschule-karlsruhe.de/veranstaltung/elternabend-klasse-9a/
LOCATION:Klassenraum
CATEGORIES:Elternabend
ATTACH;FMTTYPE=image/jpeg:https://waldorfschule-karlsruhe.de/wp-content/uploads/2026/01/Elternabend-scaled-e1767618907942.jpg
END:VEVENT
BEGIN:VEVENT
DTSTART;TZID=Europe/Berlin:20260206T200000
DTEND;TZID=Europe/Berlin:20260206T200000
DTSTAMP:20260420T161703
CREATED:20251228T121529Z
LAST-MODIFIED:20260127T072303Z
UID:3658-1770408000-1770408000@waldorfschule-karlsruhe.de
SUMMARY:Verbrennungen
DESCRIPTION:In seinem Theaterstück konfrontiert uns Wajdi Mouawad mit den zerstörerischen und sehr aktuellen Mechanismen von Gewalt und reflexhafter Gegengewalt\, Unterdrückung menschlicher Individualität\, Sinnverlust\, hasserfüllter Rache und Krieg. Aber auch von den Gegenbildern wird erzählt: von bedingungsloser Liebe\, Mut\, Emanzipation und Versöhnung. Das Stück verschränkt den Lebensalltag der kanadischen Protagonisten mit dem traumatischen Geschehen des libanesischen Bürgerkriegs. Schnell wird aber deutlich: Es geht eigentlich um den Menschen überhaupt\, um unsere gegenwärtigen Konflikte und letztlich um Fragen nach biographischer Entwicklung\, die Möglichkeit der Freiheit\, um Frieden und ein soziales Miteinander.\nAltersbeschränkung: 14 Jahre. \nBitte beachten Sie\, dass das Stück Themen wie (sexuelle) Gewalt\, Mord\, Waffen und Folter enthält.
URL:https://waldorfschule-karlsruhe.de/veranstaltung/verbrennungen-2/
LOCATION:Festsaal\, Neisser Str. 2\, Karlsruhe\, 76139\, Germany
CATEGORIES:Öffentlich
ATTACH;FMTTYPE=image/jpeg:https://waldorfschule-karlsruhe.de/wp-content/uploads/2025/12/entwurf2_mann-scaled.jpg
ORGANIZER;CN="Maren Hagenbucher":MAILTO:m.hagenbucher@fws-ka.de
END:VEVENT
BEGIN:VEVENT
DTSTART;TZID=Europe/Berlin:20260207T200000
DTEND;TZID=Europe/Berlin:20260207T200000
DTSTAMP:20260420T161703
CREATED:20251228T122100Z
LAST-MODIFIED:20260127T072120Z
UID:3664-1770494400-1770494400@waldorfschule-karlsruhe.de
SUMMARY:Verbrennungen
DESCRIPTION:In seinem Theaterstück konfrontiert uns Wajdi Mouawad mit den zerstörerischen und sehr aktuellen Mechanismen von Gewalt und reflexhafter Gegengewalt\, Unterdrückung menschlicher Individualität\, Sinnverlust\, hasserfüllter Rache und Krieg. Aber auch von den Gegenbildern wird erzählt: von bedingungsloser Liebe\, Mut\, Emanzipation und Versöhnung. Das Stück verschränkt den Lebensalltag der kanadischen Protagonisten mit dem traumatischen Geschehen des libanesischen Bürgerkriegs. Schnell wird aber deutlich: Es geht eigentlich um den Menschen überhaupt\, um unsere gegenwärtigen Konflikte und letztlich um Fragen nach biographischer Entwicklung\, die Möglichkeit der Freiheit\, um Frieden und ein soziales Miteinander.\nAltersbeschränkung: 14 Jahre. \nBitte beachten Sie\, dass das Stück Themen wie (sexuelle) Gewalt\, Mord\, Waffen und Folter enthält.
URL:https://waldorfschule-karlsruhe.de/veranstaltung/verbrennungen/
LOCATION:Festsaal\, Neisser Str. 2\, Karlsruhe\, 76139\, Germany
CATEGORIES:Öffentlich
ATTACH;FMTTYPE=image/jpeg:https://waldorfschule-karlsruhe.de/wp-content/uploads/2025/12/entwurf2_mann-scaled.jpg
ORGANIZER;CN="Maren Hagenbucher":MAILTO:m.hagenbucher@fws-ka.de
END:VEVENT
BEGIN:VEVENT
DTSTART;TZID=Europe/Berlin:20260213T180000
DTEND;TZID=Europe/Berlin:20260213T180000
DTSTAMP:20260420T161703
CREATED:20260204T105510Z
LAST-MODIFIED:20260204T113516Z
UID:3887-1771005600-1771005600@waldorfschule-karlsruhe.de
SUMMARY:Faschingsball
DESCRIPTION:
URL:https://waldorfschule-karlsruhe.de/veranstaltung/faschingsball/
LOCATION:Festsaal\, Neisser Str. 2\, Karlsruhe\, 76139\, Germany
CATEGORIES:Schulintern
ATTACH;FMTTYPE=image/png:https://waldorfschule-karlsruhe.de/wp-content/uploads/2026/02/340FB02C-8583-44CA-A2BF-129BF27C5734.png
END:VEVENT
BEGIN:VEVENT
DTSTART;TZID=Europe/Berlin:20260227T160000
DTEND;TZID=Europe/Berlin:20260227T160000
DTSTAMP:20260420T161703
CREATED:20251228T123007Z
LAST-MODIFIED:20251228T123007Z
UID:3669-1772208000-1772208000@waldorfschule-karlsruhe.de
SUMMARY:Öffentliches Infogespräch
DESCRIPTION:Unser zirka 1\,5 stündiger Informationsnachmittag richtet sich an alle Interessierten\, die sich über die Waldorfpädagogik im Allgemeinen und unsere Schule im Speziellen informieren möchten. Die Veranstaltung ist für Erwachsene konzipiert – eine Kinderbetreuung bieten wir nicht an. Wir freuen uns über pünktliches Erscheinen um 16 Uhr\, weil wir gern mit einem gemeinsamen Auftakt sowie einer Vorstellungsrunde beginnen. \nGanz besonders wendet sich unser Informationsnachmittag an Eltern\, deren Kinder eine zukünftige erste Klasse besuchen oder als Quereinsteiger*innen in eine bereits bestehende Klasse aufgenommen werden sollen. In offener Gesprächsrunde können alle Fragen zu den verschiedenen Themenbereichen geklärt werden. Darüber hinaus steht umfangreiches Informationsmaterial zum Mitnehmen zur Verfügung. Auf Wunsch erhalten Interessierte am Ende der Veranstaltung ein Aufnahmeformular für zukünftige Schulkinder. \nWeitere Termine für öffentliche Infogespräche finden Sie auf unserer Internetseite.
URL:https://waldorfschule-karlsruhe.de/veranstaltung/oeffentliches-infogespraech-2/
LOCATION:Speisesaal\, Neisser Str. 2\, Karlsruhe\, 76139
CATEGORIES:Öffentlich
ATTACH;FMTTYPE=image/jpeg:https://waldorfschule-karlsruhe.de/wp-content/uploads/2026/01/2025_SueBarth_Waldorfschule.jpg
ORGANIZER;CN="Gabriele Schick":MAILTO:g.schick@fws-ka.de
END:VEVENT
END:VCALENDAR